BEGIN:VCALENDAR
VERSION:2.0
PRODID:SchoolNow
CALSCALE:GREGORIAN
BEGIN:VEVENT
UID:37341b26-01ff-11f1-bc21-0a58a9feac02
DTSTAMP:20260423T202507Z
SUMMARY:Minimum Day - Report Cards
URL;VALUE=URI:https://www.lahabraschools.org/imperial/calendar/8849498/mini
 mum-day-report-cards
DTSTART;VALUE=DATE:20260306
DTEND;VALUE=DATE:20260307
END:VEVENT
END:VCALENDAR
