BEGIN:VCALENDAR
VERSION:2.0
PRODID:SchoolNow
CALSCALE:GREGORIAN
BEGIN:VEVENT
UID:3167a70c-085e-11f1-aa8c-0afff2f88c63
DTSTAMP:20260424T023009Z
SUMMARY:School Site Council Meeting
URL;VALUE=URI:https://www.lahabraschools.org/imperial/calendar/8854446/scho
 ol-site-council-meeting
DTSTART:20260218T233000Z
DTEND:20260219T003000Z
END:VEVENT
END:VCALENDAR
