BEGIN:VCALENDAR
VERSION:2.0
PRODID:SchoolNow
CALSCALE:GREGORIAN
BEGIN:VEVENT
UID:50da5002-19b2-11f1-9875-0a58a9feac02
DTSTAMP:20260423T202507Z
SUMMARY:Spring Break
URL;VALUE=URI:https://www.lahabraschools.org/imperial/calendar/8897000/spri
 ng-break
DTSTART;VALUE=DATE:20260316
DTEND;VALUE=DATE:20260321
END:VEVENT
END:VCALENDAR
