BEGIN:VCALENDAR
VERSION:2.0
PRODID:SchoolNow
CALSCALE:GREGORIAN
BEGIN:VEVENT
UID:50da8e64-19b2-11f1-9af4-0a58a9feac02
DTSTAMP:20260423T202507Z
SUMMARY:IMS 6th Grade Science Camp
URL;VALUE=URI:https://www.lahabraschools.org/imperial/calendar/8897001/ims-
 6th-grade-science-camp
DTSTART;VALUE=DATE:20260330
DTEND;VALUE=DATE:20260402
END:VEVENT
END:VCALENDAR
