BEGIN:VCALENDAR
VERSION:2.0
PRODID:SchoolNow
CALSCALE:GREGORIAN
BEGIN:VEVENT
UID:50da92c4-19b2-11f1-b57a-0a58a9feac02
DTSTAMP:20260423T202507Z
SUMMARY:End of 3rd Q
URL;VALUE=URI:https://www.lahabraschools.org/imperial/calendar/8897002/end-
 of-3rd-q
DTSTART;VALUE=DATE:20260313
DTEND;VALUE=DATE:20260314
END:VEVENT
END:VCALENDAR
