BEGIN:VCALENDAR
VERSION:2.0
PRODID:SchoolNow
CALSCALE:GREGORIAN
BEGIN:VEVENT
UID:50da9562-19b2-11f1-b48f-0a58a9feac02
DTSTAMP:20260423T202507Z
SUMMARY:Talent Show
URL;VALUE=URI:https://www.lahabraschools.org/imperial/calendar/8897003/tale
 nt-show
DTSTART:20260313T151500Z
DTEND:20260313T171500Z
END:VEVENT
END:VCALENDAR
