BEGIN:VCALENDAR
VERSION:2.0
PRODID:SchoolNow
CALSCALE:GREGORIAN
BEGIN:VEVENT
UID:50da9706-19b2-11f1-ab69-0a58a9feac02
DTSTAMP:20260423T202507Z
SUMMARY:Spring Dance ASB
URL;VALUE=URI:https://www.lahabraschools.org/imperial/calendar/8897004/spri
 ng-dance-asb
DTSTART:20260416T220000Z
DTEND:20260416T233000Z
END:VEVENT
END:VCALENDAR
