BEGIN:VCALENDAR
VERSION:2.0
PRODID:SchoolNow
CALSCALE:GREGORIAN
BEGIN:VEVENT
UID:50da9a44-19b2-11f1-a3e9-0a58a9feac02
DTSTAMP:20260423T202507Z
SUMMARY:Sports Away vs WMS
URL;VALUE=URI:https://www.lahabraschools.org/imperial/calendar/8897006/spor
 ts-away-vs-wms
DTSTART:20260421T213000Z
DTEND:20260422T000000Z
END:VEVENT
END:VCALENDAR
