BEGIN:VCALENDAR
VERSION:2.0
PRODID:SchoolNow
CALSCALE:GREGORIAN
BEGIN:VEVENT
UID:50da9b7a-19b2-11f1-8cec-0a58a9feac02
DTSTAMP:20260423T202507Z
SUMMARY:Knott's Candy Sale Trip
URL;VALUE=URI:https://www.lahabraschools.org/imperial/calendar/8897007/knot
 ts-candy-sale-trip
DTSTART:20260409T160000Z
DTEND:20260410T000000Z
END:VEVENT
END:VCALENDAR
