BEGIN:VCALENDAR
VERSION:2.0
PRODID:SchoolNow
CALSCALE:GREGORIAN
BEGIN:VEVENT
UID:50da9c74-19b2-11f1-8be3-0a58a9feac02
DTSTAMP:20260423T202507Z
SUMMARY:PD Day
URL;VALUE=URI:https://www.lahabraschools.org/imperial/calendar/8897008/pd-d
 ay
DTSTART:20260403T150000Z
DTEND:20260403T220000Z
END:VEVENT
END:VCALENDAR
