BEGIN:VCALENDAR
VERSION:2.0
PRODID:SchoolNow
CALSCALE:GREGORIAN
BEGIN:VEVENT
UID:50da9d78-19b2-11f1-ac58-0a58a9feac02
DTSTAMP:20260423T202507Z
SUMMARY:Candy Sale DJ Party 7th/8th per
URL;VALUE=URI:https://www.lahabraschools.org/imperial/calendar/8897009/cand
 y-sale-dj-party-7th-8th-per
DTSTART:20260309T203000Z
DTEND:20260309T220000Z
END:VEVENT
END:VCALENDAR
