BEGIN:VCALENDAR
VERSION:2.0
PRODID:SchoolNow
CALSCALE:GREGORIAN
BEGIN:VEVENT
UID:50da9ecc-19b2-11f1-bfd2-0a58a9feac02
DTSTAMP:20260423T202507Z
SUMMARY:Career Week
URL;VALUE=URI:https://www.lahabraschools.org/imperial/calendar/8897010/care
 er-week
DTSTART;VALUE=DATE:20260323
DTEND;VALUE=DATE:20260328
END:VEVENT
END:VCALENDAR
