BEGIN:VCALENDAR
VERSION:2.0
PRODID:SchoolNow
CALSCALE:GREGORIAN
BEGIN:VEVENT
UID:50da9fe4-19b2-11f1-ae96-0a58a9feac02
DTSTAMP:20260423T202507Z
SUMMARY:Career Day
URL;VALUE=URI:https://www.lahabraschools.org/imperial/calendar/8897011/care
 er-day
DTSTART;VALUE=DATE:20260327
DTEND;VALUE=DATE:20260328
END:VEVENT
END:VCALENDAR
