BEGIN:VCALENDAR
VERSION:2.0
PRODID:SchoolNow
CALSCALE:GREGORIAN
BEGIN:VEVENT
UID:50daa0f2-19b2-11f1-8b49-0a58a9feac02
DTSTAMP:20260423T202507Z
SUMMARY:School Site Council Mtg
URL;VALUE=URI:https://www.lahabraschools.org/imperial/calendar/8897012/scho
 ol-site-council-mtg
DTSTART:20260429T223000Z
DTEND:20260429T233000Z
END:VEVENT
END:VCALENDAR
