BEGIN:VCALENDAR
VERSION:2.0
PRODID:SchoolNow
CALSCALE:GREGORIAN
BEGIN:VEVENT
UID:50daa354-19b2-11f1-9e2a-0a58a9feac02
DTSTAMP:20260423T202507Z
SUMMARY:American Heart Association Kickoff
LOCATION:MPR
URL;VALUE=URI:https://www.lahabraschools.org/imperial/calendar/8897014/amer
 ican-heart-association-kickoff
DTSTART:20260406T210000Z
DTEND:20260406T220000Z
END:VEVENT
END:VCALENDAR
