BEGIN:VCALENDAR
VERSION:2.0
PRODID:SchoolNow
CALSCALE:GREGORIAN
BEGIN:VEVENT
UID:50daa46c-19b2-11f1-8902-0a58a9feac02
DTSTAMP:20260423T202507Z
SUMMARY:Choir Field Trip to Knott's
URL;VALUE=URI:https://www.lahabraschools.org/imperial/calendar/8897015/choi
 r-field-trip-to-knotts
DTSTART;VALUE=DATE:20260324
DTEND;VALUE=DATE:20260325
END:VEVENT
END:VCALENDAR
