BEGIN:VCALENDAR
VERSION:2.0
PRODID:SchoolNow
CALSCALE:GREGORIAN
BEGIN:VEVENT
UID:5597c7f8-1f45-11f1-a57e-0a58a9feac02
DTSTAMP:20260423T202507Z
SUMMARY:Pajama Day
URL;VALUE=URI:https://www.lahabraschools.org/imperial/calendar/8916177/paja
 ma-day
DTSTART;VALUE=DATE:20260324
DTEND;VALUE=DATE:20260325
END:VEVENT
END:VCALENDAR
