BEGIN:VCALENDAR
VERSION:2.0
PRODID:SchoolNow
CALSCALE:GREGORIAN
BEGIN:VEVENT
UID:5597cb72-1f45-11f1-86af-0a58a9feac02
DTSTAMP:20260423T202507Z
SUMMARY:Dress for Success
URL;VALUE=URI:https://www.lahabraschools.org/imperial/calendar/8916178/dres
 s-for-success
DTSTART;VALUE=DATE:20260327
DTEND;VALUE=DATE:20260328
END:VEVENT
END:VCALENDAR
