BEGIN:VCALENDAR
VERSION:2.0
PRODID:SchoolNow
CALSCALE:GREGORIAN
BEGIN:VEVENT
UID:5597cd3e-1f45-11f1-98df-0a58a9feac02
DTSTAMP:20260423T202507Z
SUMMARY:Dress as your future career
URL;VALUE=URI:https://www.lahabraschools.org/imperial/calendar/8916179/dres
 s-as-your-future-career
DTSTART;VALUE=DATE:20260326
DTEND;VALUE=DATE:20260327
END:VEVENT
END:VCALENDAR
