BEGIN:VCALENDAR
VERSION:2.0
PRODID:SchoolNow
CALSCALE:GREGORIAN
BEGIN:VEVENT
UID:5597d068-1f45-11f1-a537-0a58a9feac02
DTSTAMP:20260423T202507Z
SUMMARY:Wear Camo or a Uniform
URL;VALUE=URI:https://www.lahabraschools.org/imperial/calendar/8916180/wear
 -camo-or-a-uniform
DTSTART;VALUE=DATE:20260325
DTEND;VALUE=DATE:20260326
END:VEVENT
END:VCALENDAR
