BEGIN:VCALENDAR
VERSION:2.0
PRODID:SchoolNow
CALSCALE:GREGORIAN
BEGIN:VEVENT
UID:5597d1e4-1f45-11f1-9f79-0a58a9feac02
DTSTAMP:20260423T202507Z
SUMMARY:Wear College Gear
URL;VALUE=URI:https://www.lahabraschools.org/imperial/calendar/8916181/wear
 -college-gear
DTSTART;VALUE=DATE:20260323
DTEND;VALUE=DATE:20260324
END:VEVENT
END:VCALENDAR
