BEGIN:VCALENDAR
VERSION:2.0
PRODID:SchoolNow
CALSCALE:GREGORIAN
BEGIN:VEVENT
UID:5413166c-3d22-11f1-b1f7-0a58a9feac02
DTSTAMP:20260423T081507Z
SUMMARY:CAASPP Testing ELA PT - 1
URL;VALUE=URI:https://www.lahabraschools.org/imperial/calendar/9008119/caas
 pp-testing-ela-pt-1
DTSTART:20260429T172000Z
DTEND:20260429T191000Z
END:VEVENT
END:VCALENDAR
