BEGIN:VCALENDAR
VERSION:2.0
PRODID:SchoolNow
CALSCALE:GREGORIAN
BEGIN:VEVENT
UID:54131b1c-3d22-11f1-9042-0a58a9feac02
DTSTAMP:20260423T202507Z
SUMMARY:CAASPP Testing Math PT
URL;VALUE=URI:https://www.lahabraschools.org/imperial/calendar/9008121/caas
 pp-testing-math-pt
DTSTART:20260505T171600Z
DTEND:20260505T193300Z
END:VEVENT
END:VCALENDAR
