BEGIN:VCALENDAR
VERSION:2.0
PRODID:SchoolNow
CALSCALE:GREGORIAN
BEGIN:VEVENT
UID:54131c7a-3d22-11f1-ac89-0a58a9feac02
DTSTAMP:20260423T081507Z
SUMMARY:CAASPP Testing ELA CAT
URL;VALUE=URI:https://www.lahabraschools.org/imperial/calendar/9008122/caas
 pp-testing-ela-cat
DTSTART:20260428T171500Z
DTEND:20260428T193500Z
END:VEVENT
END:VCALENDAR
