BEGIN:VCALENDAR
VERSION:2.0
PRODID:SchoolNow
CALSCALE:GREGORIAN
BEGIN:VEVENT
UID:54131d7e-3d22-11f1-9204-0a58a9feac02
DTSTAMP:20260423T202507Z
SUMMARY:CAASPP Testing Make-Ups (8th CAST)
URL;VALUE=URI:https://www.lahabraschools.org/imperial/calendar/9008123/caas
 pp-testing-make-ups-8th-cast
DTSTART:20260507T202000Z
DTEND:20260507T211000Z
END:VEVENT
END:VCALENDAR
