BEGIN:VCALENDAR
VERSION:2.0
PRODID:SchoolNow
CALSCALE:GREGORIAN
BEGIN:VEVENT
UID:54131e6e-3d22-11f1-a3d4-0a58a9feac02
DTSTAMP:20260422T075507Z
SUMMARY:Testing Assembly Kickoff
URL;VALUE=URI:https://www.lahabraschools.org/imperial/calendar/9008124/test
 ing-assembly-kickoff
DTSTART:20260427T210000Z
DTEND:20260427T220000Z
END:VEVENT
END:VCALENDAR
