BEGIN:VCALENDAR
VERSION:2.0
PRODID:SchoolNow
CALSCALE:GREGORIAN
BEGIN:VEVENT
UID:54132008-3d22-11f1-bc8f-0a58a9feac02
DTSTAMP:20260423T202507Z
SUMMARY:CAASPP Testing Math CAT
URL;VALUE=URI:https://www.lahabraschools.org/imperial/calendar/9008125/caas
 pp-testing-math-cat
DTSTART:20260501T172000Z
DTEND:20260501T193500Z
END:VEVENT
END:VCALENDAR
