BEGIN:VCALENDAR
VERSION:2.0
PRODID:SchoolNow
CALSCALE:GREGORIAN
BEGIN:VEVENT
UID:54132184-3d22-11f1-9b23-0a58a9feac02
DTSTAMP:20260421T074007Z
SUMMARY:Sports Away at Granada
URL;VALUE=URI:https://www.lahabraschools.org/imperial/calendar/9008126/spor
 ts-away-at-granada
DTSTART:20260422T213000Z
DTEND:20260423T000000Z
END:VEVENT
END:VCALENDAR
