BEGIN:VCALENDAR
VERSION:2.0
PRODID:SchoolNow
CALSCALE:GREGORIAN
BEGIN:VEVENT
UID:54132418-3d22-11f1-8672-0a58a9feac02
DTSTAMP:20260423T202507Z
SUMMARY:CAASPP Testing (8th CAST)
URL;VALUE=URI:https://www.lahabraschools.org/imperial/calendar/9008128/caas
 pp-testing-8th-cast
DTSTART:20260507T172000Z
DTEND:20260507T193500Z
END:VEVENT
END:VCALENDAR
