BEGIN:VCALENDAR
VERSION:2.0
PRODID:SchoolNow
CALSCALE:GREGORIAN
BEGIN:VEVENT
UID:54132558-3d22-11f1-89f8-0a58a9feac02
DTSTAMP:20260423T202507Z
SUMMARY:Minimum Day - Report Cards
URL;VALUE=URI:https://www.lahabraschools.org/imperial/calendar/9008129/mini
 mum-day-report-cards
DTSTART;VALUE=DATE:20260508
DTEND;VALUE=DATE:20260509
END:VEVENT
END:VCALENDAR
