BEGIN:VCALENDAR
VERSION:2.0
PRODID:SchoolNow
CALSCALE:GREGORIAN
BEGIN:VEVENT
UID:5413267a-3d22-11f1-b5a9-0a58a9feac02
DTSTAMP:20260423T202507Z
SUMMARY:School Principals Day
URL;VALUE=URI:https://www.lahabraschools.org/imperial/calendar/9008130/scho
 ol-principals-day
DTSTART;VALUE=DATE:20260501
DTEND;VALUE=DATE:20260502
END:VEVENT
END:VCALENDAR
