BEGIN:VCALENDAR
VERSION:2.0
PRODID:SchoolNow
CALSCALE:GREGORIAN
BEGIN:VEVENT
UID:5413277e-3d22-11f1-ae52-0a58a9feac02
DTSTAMP:20260421T074007Z
SUMMARY:At-Risk 8th Grade Meeting
URL;VALUE=URI:https://www.lahabraschools.org/imperial/calendar/9008131/at-r
 isk-8th-grade-meeting
DTSTART:20260422T003000Z
DTEND:20260422T013000Z
END:VEVENT
END:VCALENDAR
