BEGIN:VCALENDAR
VERSION:2.0
PRODID:SchoolNow
CALSCALE:GREGORIAN
BEGIN:VEVENT
UID:54132878-3d22-11f1-b1ec-0a58a9feac02
DTSTAMP:20260423T202507Z
SUMMARY:Teacher Appreciation Week
URL;VALUE=URI:https://www.lahabraschools.org/imperial/calendar/9008132/teac
 her-appreciation-week
DTSTART;VALUE=DATE:20260504
DTEND;VALUE=DATE:20260509
END:VEVENT
END:VCALENDAR
