BEGIN:VCALENDAR
VERSION:2.0
PRODID:SchoolNow
CALSCALE:GREGORIAN
BEGIN:VEVENT
UID:541329d6-3d22-11f1-b7a1-0a58a9feac02
DTSTAMP:20260423T202507Z
SUMMARY:CAASPP Testing Make-Ups
URL;VALUE=URI:https://www.lahabraschools.org/imperial/calendar/9008133/caas
 pp-testing-make-ups
DTSTART:20260501T202000Z
DTEND:20260501T211000Z
END:VEVENT
END:VCALENDAR
