BEGIN:VCALENDAR
VERSION:2.0
PRODID:SchoolNow
CALSCALE:GREGORIAN
BEGIN:VEVENT
UID:54132ae4-3d22-11f1-9996-0a58a9feac02
DTSTAMP:20260423T081507Z
SUMMARY:CAASPP Testing ELA PT - 2
URL;VALUE=URI:https://www.lahabraschools.org/imperial/calendar/9008134/caas
 pp-testing-ela-pt-2
DTSTART:20260430T171500Z
DTEND:20260430T193500Z
END:VEVENT
END:VCALENDAR
