BEGIN:VCALENDAR
VERSION:2.0
PRODID:SchoolNow
CALSCALE:GREGORIAN
BEGIN:VEVENT
UID:54132bca-3d22-11f1-b60b-0a58a9feac02
DTSTAMP:20260422T075507Z
SUMMARY:Sports Away vs Hillview
URL;VALUE=URI:https://www.lahabraschools.org/imperial/calendar/9008135/spor
 ts-away-vs-hillview
DTSTART:20260423T213000Z
DTEND:20260424T000000Z
END:VEVENT
END:VCALENDAR
