BEGIN:VCALENDAR
VERSION:2.0
PRODID:SchoolNow
CALSCALE:GREGORIAN
BEGIN:VEVENT
UID:9a8aab76-3dba-11f1-9996-0a58a9feac02
DTSTAMP:20260423T202507Z
SUMMARY:Instrumental Music Spring Concert @ LHHS
LOCATION:La Habra High School\, 801 Highlander Ave\, La Habra\, CA 90631\, 
 USA
URL;VALUE=URI:https://www.lahabraschools.org/imperial/calendar/9009680/inst
 rumental-music-spring-concert-lhhs
DTSTART:20260508T010000Z
DTEND:20260508T023000Z
END:VEVENT
END:VCALENDAR
