BEGIN:VCALENDAR
VERSION:2.0
PRODID:SchoolNow
CALSCALE:GREGORIAN
BEGIN:VEVENT
UID:85118ff0-3f52-11f1-a7e0-0a58a9feac02
DTSTAMP:20260423T202507Z
SUMMARY:FACE to FACE Mtg
URL;VALUE=URI:https://www.lahabraschools.org/imperial/calendar/9013991/face
 -to-face-mtg
DTSTART:20260429T153000Z
DTEND:20260429T163000Z
END:VEVENT
END:VCALENDAR
