BEGIN:VCALENDAR
VERSION:2.0
PRODID:SchoolNow
CALSCALE:GREGORIAN
BEGIN:VEVENT
UID:f8a8627e-2bf3-11e9-965c-0ab007d04254
DTSTAMP:20190208T225046Z
SUMMARY:Transitional Kinder/Kinder Registration Rally
URL;VALUE=URI:https://www.lahabraschools.org/laderapalma/calendar/1942646/t
 ransitional-kinder-kinder-registration-rally
DTSTART:20190213T003000Z
DTEND:20190213T023000Z
END:VEVENT
END:VCALENDAR
