BEGIN:VCALENDAR
VERSION:2.0
PRODID:SchoolNow
CALSCALE:GREGORIAN
BEGIN:VEVENT
UID:a07cd280-4e19-11ef-8d6d-0212080f65f9
DTSTAMP:20260421T181508Z
SUMMARY:PTA Board Meeting
URL;VALUE=URI:https://www.lahabraschools.org/laderapalma/calendar/6326809/p
 ta-board-meeting
DTSTART:20260114T033000Z
DTEND:20260114T043000Z
END:VEVENT
END:VCALENDAR
