BEGIN:VCALENDAR
VERSION:2.0
PRODID:SchoolNow
CALSCALE:GREGORIAN
BEGIN:VEVENT
UID:a07d7488-4e19-11ef-ae72-0212080f65f9
DTSTAMP:20260421T121009Z
SUMMARY:PTA Board Meeting
URL;VALUE=URI:https://www.lahabraschools.org/laderapalma/calendar/6326811/p
 ta-board-meeting
DTSTART:20260311T023000Z
DTEND:20260311T033000Z
END:VEVENT
END:VCALENDAR
