BEGIN:VCALENDAR
VERSION:2.0
PRODID:SchoolNow
CALSCALE:GREGORIAN
BEGIN:VEVENT
UID:72f5c714-748d-11ef-8ca3-0a58a9feac02
DTSTAMP:20260421T181508Z
SUMMARY:PTA Board Meeting
URL;VALUE=URI:https://www.lahabraschools.org/laderapalma/calendar/6619634/p
 ta-board-meeting
DTSTART:20260513T023000Z
DTEND:20260513T033000Z
END:VEVENT
END:VCALENDAR
