BEGIN:VCALENDAR
VERSION:2.0
PRODID:SchoolNow
CALSCALE:GREGORIAN
BEGIN:VEVENT
UID:79585754-7aee-11ef-8fce-0a58a9feac02
DTSTAMP:20260421T181508Z
SUMMARY:PTA Association Meeting
URL;VALUE=URI:https://www.lahabraschools.org/laderapalma/calendar/6683678/p
 ta-association-meeting
DTSTART:20260128T033000Z
DTEND:20260128T043000Z
END:VEVENT
END:VCALENDAR
