BEGIN:VCALENDAR
VERSION:2.0
PRODID:SchoolNow
CALSCALE:GREGORIAN
BEGIN:VEVENT
UID:79585844-7aee-11ef-a125-0a58a9feac02
DTSTAMP:20260421T181508Z
SUMMARY:PTA Association Meeting
URL;VALUE=URI:https://www.lahabraschools.org/laderapalma/calendar/6683679/p
 ta-association-meeting
DTSTART:20260225T033000Z
DTEND:20260225T043000Z
END:VEVENT
END:VCALENDAR
