BEGIN:VCALENDAR
VERSION:2.0
PRODID:SchoolNow
CALSCALE:GREGORIAN
BEGIN:VEVENT
UID:7958592a-7aee-11ef-93c4-0a58a9feac02
DTSTAMP:20260421T121009Z
SUMMARY:PTA Association Meeting
URL;VALUE=URI:https://www.lahabraschools.org/laderapalma/calendar/6683680/p
 ta-association-meeting
DTSTART:20260324T221500Z
DTEND:20260324T231500Z
END:VEVENT
END:VCALENDAR
