BEGIN:VCALENDAR
VERSION:2.0
PRODID:SchoolNow
CALSCALE:GREGORIAN
BEGIN:VEVENT
UID:79585a10-7aee-11ef-8519-0a58a9feac02
DTSTAMP:20260421T121009Z
SUMMARY:PTA Association Meeting
URL;VALUE=URI:https://www.lahabraschools.org/laderapalma/calendar/6683681/p
 ta-association-meeting
DTSTART:20260429T023000Z
DTEND:20260429T033000Z
END:VEVENT
END:VCALENDAR
