BEGIN:VCALENDAR
VERSION:2.0
PRODID:SchoolNow
CALSCALE:GREGORIAN
BEGIN:VEVENT
UID:811d3364-7b71-11ef-a274-020a744fb64d
DTSTAMP:20240925T190809Z
SUMMARY:DDLM Planning Meeting
URL;VALUE=URI:https://www.lahabraschools.org/laderapalma/calendar/6689043/d
 dlm-planning-meeting
DTSTART:20241001T160000Z
DTEND:20241001T173000Z
ATTACH;FILENAME=DDLM Art Club 2024.png;FMTTYPE=image/png:https://campussuit
 e-storage.s3.amazonaws.com/prod/1031925/41eae2d6-29fe-11e7-b792-22000bd849
 0f/2853426/04575bfc-7b71-11ef-80f1-02ec9a156d6b/file/DDLM Art Club 2024.pn
 g
END:VEVENT
END:VCALENDAR
