BEGIN:VCALENDAR
VERSION:2.0
PRODID:SchoolNow
CALSCALE:GREGORIAN
BEGIN:VEVENT
UID:5cb5984a-7d1f-11ef-814c-0a58a9feac02
DTSTAMP:20260421T181508Z
SUMMARY:PTA Association Meeting
URL;VALUE=URI:https://www.lahabraschools.org/laderapalma/calendar/6705326/p
 ta-association-meeting
DTSTART:20260527T023000Z
DTEND:20260527T033000Z
END:VEVENT
END:VCALENDAR
