BEGIN:VCALENDAR
VERSION:2.0
PRODID:SchoolNow
CALSCALE:GREGORIAN
BEGIN:VEVENT
UID:4611d8c2-92a2-11ef-a4c0-0a58a9feac02
DTSTAMP:20260421T181508Z
SUMMARY:PTA Association Meeting
URL;VALUE=URI:https://www.lahabraschools.org/laderapalma/calendar/6893652/p
 ta-association-meeting
DTSTART:20260624T023000Z
DTEND:20260624T033000Z
END:VEVENT
END:VCALENDAR
