BEGIN:VCALENDAR
VERSION:2.0
PRODID:SchoolNow
CALSCALE:GREGORIAN
BEGIN:VEVENT
UID:1ff3cd6e-af83-11ef-97f1-0affcd4c0673
DTSTAMP:20260421T181508Z
SUMMARY:PTA Association Meeting
URL;VALUE=URI:https://www.lahabraschools.org/laderapalma/calendar/7102248/p
 ta-association-meeting
DTSTART:20260729T023000Z
DTEND:20260729T033000Z
END:VEVENT
END:VCALENDAR
